BEGIN:VCALENDAR
VERSION:2.0
PRODID:-//Camas Cove Cellars - ECPv6.15.20//NONSGML v1.0//EN
CALSCALE:GREGORIAN
METHOD:PUBLISH
X-WR-CALNAME:Camas Cove Cellars
X-ORIGINAL-URL:https://camascovecellars.com
X-WR-CALDESC:Events for Camas Cove Cellars
REFRESH-INTERVAL;VALUE=DURATION:PT1H
X-Robots-Tag:noindex
X-PUBLISHED-TTL:PT1H
BEGIN:VTIMEZONE
TZID:America/Los_Angeles
BEGIN:DAYLIGHT
TZOFFSETFROM:-0800
TZOFFSETTO:-0700
TZNAME:PDT
DTSTART:20250309T100000
END:DAYLIGHT
BEGIN:STANDARD
TZOFFSETFROM:-0700
TZOFFSETTO:-0800
TZNAME:PST
DTSTART:20251102T090000
END:STANDARD
BEGIN:DAYLIGHT
TZOFFSETFROM:-0800
TZOFFSETTO:-0700
TZNAME:PDT
DTSTART:20260308T100000
END:DAYLIGHT
BEGIN:STANDARD
TZOFFSETFROM:-0700
TZOFFSETTO:-0800
TZNAME:PST
DTSTART:20261101T090000
END:STANDARD
BEGIN:DAYLIGHT
TZOFFSETFROM:-0800
TZOFFSETTO:-0700
TZNAME:PDT
DTSTART:20270314T100000
END:DAYLIGHT
BEGIN:STANDARD
TZOFFSETFROM:-0700
TZOFFSETTO:-0800
TZNAME:PST
DTSTART:20271107T090000
END:STANDARD
END:VTIMEZONE
BEGIN:VEVENT
DTSTART;TZID=America/Los_Angeles:20260118T140000
DTEND;TZID=America/Los_Angeles:20260118T170000
DTSTAMP:20260421T215431
CREATED:20260109T230841Z
LAST-MODIFIED:20260109T230841Z
UID:1913-1768744800-1768755600@camascovecellars.com
SUMMARY:What the year is asking
DESCRIPTION:A month-by-month framework for insight and self-support\nWhat if you approached 2026 differently?\nNot with resolutions you abandon by February.Not with a vision board that quietly collects dust.Not with pressure to “get it right.”\nI’m hosting a small-group class where we’ll spend a few intentional hours looking at 2026 one month at a time — not to plan every detail or predict outcomes\, but to understand what the year might ask of you and how to support yourself as it unfolds.\nThis is a different way to prepare for the year ahead.Less forcing.Less fixing.More awareness.More self-trust.\nUsing simple card pulls and guided reflection\, we’ll explore monthly themes\, lessons\, opportunities\, and challenges — creating a big-picture view you can return to throughout the year.\n You’ll leave with:• A month-by-month overview of 2026• Insight you can revisit when things feel unclear• A supportive framework that adapts as life does\n Saturday\, January 18 2:00–6:00 PM Camas Cove Cellars911 Camas Pl\, Moses Lake\, WA 98837 $20 per person 2-drink minimum (alcoholic or non-alcoholic options available) RSVP + payment required in advance to hold your spot\nNo experience needed. No “woo.” No pressure to manifest anything.Just a grounded\, thoughtful alternative to traditional New Year planning.\nComment or message Sarah for payment details and to reserve your seat \nLive your dream life—every day\, as if it’s already yours.
URL:https://camascovecellars.com/event/what-the-year-is-asking/
LOCATION:Camas Cove Cellars\, 911 Camas Place\, MOSES LAKE\, WA\, 98837-9003\, United States
END:VEVENT
END:VCALENDAR