BEGIN:VCALENDAR
VERSION:2.0
PRODID:-//Camas Cove Cellars - ECPv6.15.20//NONSGML v1.0//EN
CALSCALE:GREGORIAN
METHOD:PUBLISH
X-ORIGINAL-URL:https://camascovecellars.com
X-WR-CALDESC:Events for Camas Cove Cellars
REFRESH-INTERVAL;VALUE=DURATION:PT1H
X-Robots-Tag:noindex
X-PUBLISHED-TTL:PT1H
BEGIN:VTIMEZONE
TZID:America/Los_Angeles
BEGIN:DAYLIGHT
TZOFFSETFROM:-0800
TZOFFSETTO:-0700
TZNAME:PDT
DTSTART:20250309T100000
END:DAYLIGHT
BEGIN:STANDARD
TZOFFSETFROM:-0700
TZOFFSETTO:-0800
TZNAME:PST
DTSTART:20251102T090000
END:STANDARD
BEGIN:DAYLIGHT
TZOFFSETFROM:-0800
TZOFFSETTO:-0700
TZNAME:PDT
DTSTART:20260308T100000
END:DAYLIGHT
BEGIN:STANDARD
TZOFFSETFROM:-0700
TZOFFSETTO:-0800
TZNAME:PST
DTSTART:20261101T090000
END:STANDARD
BEGIN:DAYLIGHT
TZOFFSETFROM:-0800
TZOFFSETTO:-0700
TZNAME:PDT
DTSTART:20270314T100000
END:DAYLIGHT
BEGIN:STANDARD
TZOFFSETFROM:-0700
TZOFFSETTO:-0800
TZNAME:PST
DTSTART:20271107T090000
END:STANDARD
END:VTIMEZONE
BEGIN:VEVENT
DTSTART;TZID=America/Los_Angeles:20260125T150000
DTEND;TZID=America/Los_Angeles:20260125T170000
DTSTAMP:20260421T190543
CREATED:20251212T185357Z
LAST-MODIFIED:20251212T185357Z
UID:1906-1769353200-1769360400@camascovecellars.com
SUMMARY:Paint and Sip
DESCRIPTION:Give the gift of a fun experience with your family or friends for Christmas! Come join us to paint this fun celebration of winter painting! We are only doing 2 January events so male sure to grab your seats quickly. Details and to register visit our website at rusticgirlpainting.com
URL:https://camascovecellars.com/event/paint-and-sip/
LOCATION:Camas Cove Cellars\, 911 Camas Place\, MOSES LAKE\, WA\, 98837-9003\, United States
END:VEVENT
END:VCALENDAR