BEGIN:VCALENDAR
VERSION:2.0
PRODID:-//Camas Cove Cellars - ECPv6.15.20//NONSGML v1.0//EN
CALSCALE:GREGORIAN
METHOD:PUBLISH
X-ORIGINAL-URL:https://camascovecellars.com
X-WR-CALDESC:Events for Camas Cove Cellars
REFRESH-INTERVAL;VALUE=DURATION:PT1H
X-Robots-Tag:noindex
X-PUBLISHED-TTL:PT1H
BEGIN:VTIMEZONE
TZID:America/Los_Angeles
BEGIN:DAYLIGHT
TZOFFSETFROM:-0800
TZOFFSETTO:-0700
TZNAME:PDT
DTSTART:20250309T100000
END:DAYLIGHT
BEGIN:STANDARD
TZOFFSETFROM:-0700
TZOFFSETTO:-0800
TZNAME:PST
DTSTART:20251102T090000
END:STANDARD
BEGIN:DAYLIGHT
TZOFFSETFROM:-0800
TZOFFSETTO:-0700
TZNAME:PDT
DTSTART:20260308T100000
END:DAYLIGHT
BEGIN:STANDARD
TZOFFSETFROM:-0700
TZOFFSETTO:-0800
TZNAME:PST
DTSTART:20261101T090000
END:STANDARD
BEGIN:DAYLIGHT
TZOFFSETFROM:-0800
TZOFFSETTO:-0700
TZNAME:PDT
DTSTART:20270314T100000
END:DAYLIGHT
BEGIN:STANDARD
TZOFFSETFROM:-0700
TZOFFSETTO:-0800
TZNAME:PST
DTSTART:20271107T090000
END:STANDARD
END:VTIMEZONE
BEGIN:VEVENT
DTSTART;TZID=America/Los_Angeles:20260222T150000
DTEND;TZID=America/Los_Angeles:20260222T170000
DTSTAMP:20260421T173951
CREATED:20260203T223904Z
LAST-MODIFIED:20260203T223904Z
UID:1925-1771772400-1771779600@camascovecellars.com
SUMMARY:Paint and Sip Winter Owl
DESCRIPTION:All supplies are included along with walk through instruction! This is a family friendly venue. Visit us online for more info and to grab your seats. rusticgirlpainting.com
URL:https://camascovecellars.com/event/paint-and-sip-winter-owl/
LOCATION:Camas Cove Cellars\, 911 Camas Place\, MOSES LAKE\, WA\, 98837-9003\, United States
END:VEVENT
END:VCALENDAR